BEGIN:VCALENDAR
VERSION:2.0
PRODID:-//Pierce Transit - ECPv6.15.20//NONSGML v1.0//EN
CALSCALE:GREGORIAN
METHOD:PUBLISH
X-WR-CALNAME:Pierce Transit
X-ORIGINAL-URL:https://staging-7e28-piercetransit.wpcomstaging.com
X-WR-CALDESC:Events for Pierce Transit
REFRESH-INTERVAL;VALUE=DURATION:PT1H
X-Robots-Tag:noindex
X-PUBLISHED-TTL:PT1H
BEGIN:VTIMEZONE
TZID:America/Los_Angeles
BEGIN:DAYLIGHT
TZOFFSETFROM:-0800
TZOFFSETTO:-0700
TZNAME:PDT
DTSTART:20270314T100000
END:DAYLIGHT
BEGIN:STANDARD
TZOFFSETFROM:-0700
TZOFFSETTO:-0800
TZNAME:PST
DTSTART:20271107T090000
END:STANDARD
BEGIN:DAYLIGHT
TZOFFSETFROM:-0800
TZOFFSETTO:-0700
TZNAME:PDT
DTSTART:20280312T100000
END:DAYLIGHT
BEGIN:STANDARD
TZOFFSETFROM:-0700
TZOFFSETTO:-0800
TZNAME:PST
DTSTART:20281105T090000
END:STANDARD
BEGIN:DAYLIGHT
TZOFFSETFROM:-0800
TZOFFSETTO:-0700
TZNAME:PDT
DTSTART:20290311T100000
END:DAYLIGHT
BEGIN:STANDARD
TZOFFSETFROM:-0700
TZOFFSETTO:-0800
TZNAME:PST
DTSTART:20291104T090000
END:STANDARD
BEGIN:DAYLIGHT
TZOFFSETFROM:-0800
TZOFFSETTO:-0700
TZNAME:PDT
DTSTART:20300310T100000
END:DAYLIGHT
BEGIN:STANDARD
TZOFFSETFROM:-0700
TZOFFSETTO:-0800
TZNAME:PST
DTSTART:20301103T090000
END:STANDARD
BEGIN:DAYLIGHT
TZOFFSETFROM:-0800
TZOFFSETTO:-0700
TZNAME:PDT
DTSTART:20310309T100000
END:DAYLIGHT
BEGIN:STANDARD
TZOFFSETFROM:-0700
TZOFFSETTO:-0800
TZNAME:PST
DTSTART:20311102T090000
END:STANDARD
END:VTIMEZONE
BEGIN:VEVENT
DTSTART;TZID=America/Los_Angeles:20280427T173000
DTEND;TZID=America/Los_Angeles:20280427T190000
DTSTAMP:20260421T231816
CREATED:20251210T234052Z
LAST-MODIFIED:20251210T234052Z
UID:10000480-1840469400-1840474800@staging-7e28-piercetransit.wpcomstaging.com
SUMMARY:Community Transportation Advisory Group Meeting
DESCRIPTION:The meeting agenda will be posted closer to the event date. \n\n\n	Related
URL:https://staging-7e28-piercetransit.wpcomstaging.com/event/ctag/2028-04-27/
LOCATION:Pierce Transit Training Center\, 3720 96th St. SW\, Lakewood\, United States
CATEGORIES:CTAG
END:VEVENT
BEGIN:VEVENT
DTSTART;TZID=America/Los_Angeles:20280525T173000
DTEND;TZID=America/Los_Angeles:20280525T190000
DTSTAMP:20260421T231816
CREATED:20251210T234052Z
LAST-MODIFIED:20251210T234052Z
UID:10000481-1842888600-1842894000@staging-7e28-piercetransit.wpcomstaging.com
SUMMARY:Community Transportation Advisory Group Meeting
DESCRIPTION:The meeting agenda will be posted closer to the event date. \n\n\n	Related
URL:https://staging-7e28-piercetransit.wpcomstaging.com/event/ctag/2028-05-25/
LOCATION:Pierce Transit Training Center\, 3720 96th St. SW\, Lakewood\, United States
CATEGORIES:CTAG
END:VEVENT
BEGIN:VEVENT
DTSTART;TZID=America/Los_Angeles:20280622T173000
DTEND;TZID=America/Los_Angeles:20280622T190000
DTSTAMP:20260421T231816
CREATED:20251210T234052Z
LAST-MODIFIED:20251210T234052Z
UID:10000482-1845307800-1845313200@staging-7e28-piercetransit.wpcomstaging.com
SUMMARY:Community Transportation Advisory Group Meeting
DESCRIPTION:The meeting agenda will be posted closer to the event date. \n\n\n	Related
URL:https://staging-7e28-piercetransit.wpcomstaging.com/event/ctag/2028-06-22/
LOCATION:Pierce Transit Training Center\, 3720 96th St. SW\, Lakewood\, United States
CATEGORIES:CTAG
END:VEVENT
BEGIN:VEVENT
DTSTART;TZID=America/Los_Angeles:20280727T173000
DTEND;TZID=America/Los_Angeles:20280727T190000
DTSTAMP:20260421T231816
CREATED:20251210T234052Z
LAST-MODIFIED:20251210T234052Z
UID:10000483-1848331800-1848337200@staging-7e28-piercetransit.wpcomstaging.com
SUMMARY:Community Transportation Advisory Group Meeting
DESCRIPTION:The meeting agenda will be posted closer to the event date. \n\n\n	Related
URL:https://staging-7e28-piercetransit.wpcomstaging.com/event/ctag/2028-07-27/
LOCATION:Pierce Transit Training Center\, 3720 96th St. SW\, Lakewood\, United States
CATEGORIES:CTAG
END:VEVENT
BEGIN:VEVENT
DTSTART;TZID=America/Los_Angeles:20280824T173000
DTEND;TZID=America/Los_Angeles:20280824T190000
DTSTAMP:20260421T231816
CREATED:20251210T234052Z
LAST-MODIFIED:20251210T234052Z
UID:10000484-1850751000-1850756400@staging-7e28-piercetransit.wpcomstaging.com
SUMMARY:Community Transportation Advisory Group Meeting
DESCRIPTION:The meeting agenda will be posted closer to the event date. \n\n\n	Related
URL:https://staging-7e28-piercetransit.wpcomstaging.com/event/ctag/2028-08-24/
LOCATION:Pierce Transit Training Center\, 3720 96th St. SW\, Lakewood\, United States
CATEGORIES:CTAG
END:VEVENT
BEGIN:VEVENT
DTSTART;TZID=America/Los_Angeles:20280928T173000
DTEND;TZID=America/Los_Angeles:20280928T190000
DTSTAMP:20260421T231816
CREATED:20251210T234052Z
LAST-MODIFIED:20251210T234052Z
UID:10000485-1853775000-1853780400@staging-7e28-piercetransit.wpcomstaging.com
SUMMARY:Community Transportation Advisory Group Meeting
DESCRIPTION:The meeting agenda will be posted closer to the event date. \n\n\n	Related
URL:https://staging-7e28-piercetransit.wpcomstaging.com/event/ctag/2028-09-28/
LOCATION:Pierce Transit Training Center\, 3720 96th St. SW\, Lakewood\, United States
CATEGORIES:CTAG
END:VEVENT
BEGIN:VEVENT
DTSTART;TZID=America/Los_Angeles:20281026T173000
DTEND;TZID=America/Los_Angeles:20281026T190000
DTSTAMP:20260421T231816
CREATED:20251210T234052Z
LAST-MODIFIED:20251210T234052Z
UID:10000486-1856194200-1856199600@staging-7e28-piercetransit.wpcomstaging.com
SUMMARY:Community Transportation Advisory Group Meeting
DESCRIPTION:The meeting agenda will be posted closer to the event date. \n\n\n	Related
URL:https://staging-7e28-piercetransit.wpcomstaging.com/event/ctag/2028-10-26/
LOCATION:Pierce Transit Training Center\, 3720 96th St. SW\, Lakewood\, United States
CATEGORIES:CTAG
END:VEVENT
BEGIN:VEVENT
DTSTART;TZID=America/Los_Angeles:20281123T173000
DTEND;TZID=America/Los_Angeles:20281123T190000
DTSTAMP:20260421T231816
CREATED:20251210T234052Z
LAST-MODIFIED:20251210T234052Z
UID:10000487-1858613400-1858618800@staging-7e28-piercetransit.wpcomstaging.com
SUMMARY:Community Transportation Advisory Group Meeting
DESCRIPTION:The meeting agenda will be posted closer to the event date. \n\n\n	Related
URL:https://staging-7e28-piercetransit.wpcomstaging.com/event/ctag/2028-11-23/
LOCATION:Pierce Transit Training Center\, 3720 96th St. SW\, Lakewood\, United States
CATEGORIES:CTAG
END:VEVENT
BEGIN:VEVENT
DTSTART;TZID=America/Los_Angeles:20281228T173000
DTEND;TZID=America/Los_Angeles:20281228T190000
DTSTAMP:20260421T231816
CREATED:20251210T234052Z
LAST-MODIFIED:20251210T234052Z
UID:10000488-1861637400-1861642800@staging-7e28-piercetransit.wpcomstaging.com
SUMMARY:Community Transportation Advisory Group Meeting
DESCRIPTION:The meeting agenda will be posted closer to the event date. \n\n\n	Related
URL:https://staging-7e28-piercetransit.wpcomstaging.com/event/ctag/2028-12-28/
LOCATION:Pierce Transit Training Center\, 3720 96th St. SW\, Lakewood\, United States
CATEGORIES:CTAG
END:VEVENT
BEGIN:VEVENT
DTSTART;TZID=America/Los_Angeles:20290125T173000
DTEND;TZID=America/Los_Angeles:20290125T190000
DTSTAMP:20260421T231816
CREATED:20251210T234052Z
LAST-MODIFIED:20251210T234052Z
UID:10000489-1864056600-1864062000@staging-7e28-piercetransit.wpcomstaging.com
SUMMARY:Community Transportation Advisory Group Meeting
DESCRIPTION:The meeting agenda will be posted closer to the event date. \n\n\n	Related
URL:https://staging-7e28-piercetransit.wpcomstaging.com/event/ctag/2029-01-25/
LOCATION:Pierce Transit Training Center\, 3720 96th St. SW\, Lakewood\, United States
CATEGORIES:CTAG
END:VEVENT
BEGIN:VEVENT
DTSTART;TZID=America/Los_Angeles:20290222T173000
DTEND;TZID=America/Los_Angeles:20290222T190000
DTSTAMP:20260421T231816
CREATED:20251210T234052Z
LAST-MODIFIED:20251210T234052Z
UID:10000490-1866475800-1866481200@staging-7e28-piercetransit.wpcomstaging.com
SUMMARY:Community Transportation Advisory Group Meeting
DESCRIPTION:The meeting agenda will be posted closer to the event date. \n\n\n	Related
URL:https://staging-7e28-piercetransit.wpcomstaging.com/event/ctag/2029-02-22/
LOCATION:Pierce Transit Training Center\, 3720 96th St. SW\, Lakewood\, United States
CATEGORIES:CTAG
END:VEVENT
BEGIN:VEVENT
DTSTART;TZID=America/Los_Angeles:20290322T173000
DTEND;TZID=America/Los_Angeles:20290322T190000
DTSTAMP:20260421T231816
CREATED:20251210T234052Z
LAST-MODIFIED:20251210T234052Z
UID:10000491-1868895000-1868900400@staging-7e28-piercetransit.wpcomstaging.com
SUMMARY:Community Transportation Advisory Group Meeting
DESCRIPTION:The meeting agenda will be posted closer to the event date. \n\n\n	Related
URL:https://staging-7e28-piercetransit.wpcomstaging.com/event/ctag/2029-03-22/
LOCATION:Pierce Transit Training Center\, 3720 96th St. SW\, Lakewood\, United States
CATEGORIES:CTAG
END:VEVENT
BEGIN:VEVENT
DTSTART;TZID=America/Los_Angeles:20290426T173000
DTEND;TZID=America/Los_Angeles:20290426T190000
DTSTAMP:20260421T231816
CREATED:20251210T234052Z
LAST-MODIFIED:20251210T234052Z
UID:10000492-1871919000-1871924400@staging-7e28-piercetransit.wpcomstaging.com
SUMMARY:Community Transportation Advisory Group Meeting
DESCRIPTION:The meeting agenda will be posted closer to the event date. \n\n\n	Related
URL:https://staging-7e28-piercetransit.wpcomstaging.com/event/ctag/2029-04-26/
LOCATION:Pierce Transit Training Center\, 3720 96th St. SW\, Lakewood\, United States
CATEGORIES:CTAG
END:VEVENT
BEGIN:VEVENT
DTSTART;TZID=America/Los_Angeles:20290524T173000
DTEND;TZID=America/Los_Angeles:20290524T190000
DTSTAMP:20260421T231816
CREATED:20251210T234052Z
LAST-MODIFIED:20251210T234052Z
UID:10000493-1874338200-1874343600@staging-7e28-piercetransit.wpcomstaging.com
SUMMARY:Community Transportation Advisory Group Meeting
DESCRIPTION:The meeting agenda will be posted closer to the event date. \n\n\n	Related
URL:https://staging-7e28-piercetransit.wpcomstaging.com/event/ctag/2029-05-24/
LOCATION:Pierce Transit Training Center\, 3720 96th St. SW\, Lakewood\, United States
CATEGORIES:CTAG
END:VEVENT
BEGIN:VEVENT
DTSTART;TZID=America/Los_Angeles:20290628T173000
DTEND;TZID=America/Los_Angeles:20290628T190000
DTSTAMP:20260421T231816
CREATED:20251210T234052Z
LAST-MODIFIED:20251210T234052Z
UID:10000494-1877362200-1877367600@staging-7e28-piercetransit.wpcomstaging.com
SUMMARY:Community Transportation Advisory Group Meeting
DESCRIPTION:The meeting agenda will be posted closer to the event date. \n\n\n	Related
URL:https://staging-7e28-piercetransit.wpcomstaging.com/event/ctag/2029-06-28/
LOCATION:Pierce Transit Training Center\, 3720 96th St. SW\, Lakewood\, United States
CATEGORIES:CTAG
END:VEVENT
BEGIN:VEVENT
DTSTART;TZID=America/Los_Angeles:20290726T173000
DTEND;TZID=America/Los_Angeles:20290726T190000
DTSTAMP:20260421T231816
CREATED:20251210T234052Z
LAST-MODIFIED:20251210T234052Z
UID:10000495-1879781400-1879786800@staging-7e28-piercetransit.wpcomstaging.com
SUMMARY:Community Transportation Advisory Group Meeting
DESCRIPTION:The meeting agenda will be posted closer to the event date. \n\n\n	Related
URL:https://staging-7e28-piercetransit.wpcomstaging.com/event/ctag/2029-07-26/
LOCATION:Pierce Transit Training Center\, 3720 96th St. SW\, Lakewood\, United States
CATEGORIES:CTAG
END:VEVENT
BEGIN:VEVENT
DTSTART;TZID=America/Los_Angeles:20290823T173000
DTEND;TZID=America/Los_Angeles:20290823T190000
DTSTAMP:20260421T231816
CREATED:20251210T234052Z
LAST-MODIFIED:20251210T234052Z
UID:10000496-1882200600-1882206000@staging-7e28-piercetransit.wpcomstaging.com
SUMMARY:Community Transportation Advisory Group Meeting
DESCRIPTION:The meeting agenda will be posted closer to the event date. \n\n\n	Related
URL:https://staging-7e28-piercetransit.wpcomstaging.com/event/ctag/2029-08-23/
LOCATION:Pierce Transit Training Center\, 3720 96th St. SW\, Lakewood\, United States
CATEGORIES:CTAG
END:VEVENT
BEGIN:VEVENT
DTSTART;TZID=America/Los_Angeles:20290927T173000
DTEND;TZID=America/Los_Angeles:20290927T190000
DTSTAMP:20260421T231816
CREATED:20251210T234052Z
LAST-MODIFIED:20251210T234052Z
UID:10000497-1885224600-1885230000@staging-7e28-piercetransit.wpcomstaging.com
SUMMARY:Community Transportation Advisory Group Meeting
DESCRIPTION:The meeting agenda will be posted closer to the event date. \n\n\n	Related
URL:https://staging-7e28-piercetransit.wpcomstaging.com/event/ctag/2029-09-27/
LOCATION:Pierce Transit Training Center\, 3720 96th St. SW\, Lakewood\, United States
CATEGORIES:CTAG
END:VEVENT
BEGIN:VEVENT
DTSTART;TZID=America/Los_Angeles:20291025T173000
DTEND;TZID=America/Los_Angeles:20291025T190000
DTSTAMP:20260421T231816
CREATED:20251210T234052Z
LAST-MODIFIED:20251210T234052Z
UID:10000498-1887643800-1887649200@staging-7e28-piercetransit.wpcomstaging.com
SUMMARY:Community Transportation Advisory Group Meeting
DESCRIPTION:The meeting agenda will be posted closer to the event date. \n\n\n	Related
URL:https://staging-7e28-piercetransit.wpcomstaging.com/event/ctag/2029-10-25/
LOCATION:Pierce Transit Training Center\, 3720 96th St. SW\, Lakewood\, United States
CATEGORIES:CTAG
END:VEVENT
BEGIN:VEVENT
DTSTART;TZID=America/Los_Angeles:20291122T173000
DTEND;TZID=America/Los_Angeles:20291122T190000
DTSTAMP:20260421T231816
CREATED:20251210T234052Z
LAST-MODIFIED:20251210T234052Z
UID:10000499-1890063000-1890068400@staging-7e28-piercetransit.wpcomstaging.com
SUMMARY:Community Transportation Advisory Group Meeting
DESCRIPTION:The meeting agenda will be posted closer to the event date. \n\n\n	Related
URL:https://staging-7e28-piercetransit.wpcomstaging.com/event/ctag/2029-11-22/
LOCATION:Pierce Transit Training Center\, 3720 96th St. SW\, Lakewood\, United States
CATEGORIES:CTAG
END:VEVENT
BEGIN:VEVENT
DTSTART;TZID=America/Los_Angeles:20291227T173000
DTEND;TZID=America/Los_Angeles:20291227T190000
DTSTAMP:20260421T231816
CREATED:20251210T234052Z
LAST-MODIFIED:20251210T234052Z
UID:10000500-1893087000-1893092400@staging-7e28-piercetransit.wpcomstaging.com
SUMMARY:Community Transportation Advisory Group Meeting
DESCRIPTION:The meeting agenda will be posted closer to the event date. \n\n\n	Related
URL:https://staging-7e28-piercetransit.wpcomstaging.com/event/ctag/2029-12-27/
LOCATION:Pierce Transit Training Center\, 3720 96th St. SW\, Lakewood\, United States
CATEGORIES:CTAG
END:VEVENT
BEGIN:VEVENT
DTSTART;TZID=America/Los_Angeles:20300124T173000
DTEND;TZID=America/Los_Angeles:20300124T190000
DTSTAMP:20260421T231816
CREATED:20251210T234052Z
LAST-MODIFIED:20251210T234052Z
UID:10000501-1895506200-1895511600@staging-7e28-piercetransit.wpcomstaging.com
SUMMARY:Community Transportation Advisory Group Meeting
DESCRIPTION:The meeting agenda will be posted closer to the event date. \n\n\n	Related
URL:https://staging-7e28-piercetransit.wpcomstaging.com/event/ctag/2030-01-24/
LOCATION:Pierce Transit Training Center\, 3720 96th St. SW\, Lakewood\, United States
CATEGORIES:CTAG
END:VEVENT
BEGIN:VEVENT
DTSTART;TZID=America/Los_Angeles:20300228T173000
DTEND;TZID=America/Los_Angeles:20300228T190000
DTSTAMP:20260421T231816
CREATED:20251210T234052Z
LAST-MODIFIED:20251210T234052Z
UID:10000502-1898530200-1898535600@staging-7e28-piercetransit.wpcomstaging.com
SUMMARY:Community Transportation Advisory Group Meeting
DESCRIPTION:The meeting agenda will be posted closer to the event date. \n\n\n	Related
URL:https://staging-7e28-piercetransit.wpcomstaging.com/event/ctag/2030-02-28/
LOCATION:Pierce Transit Training Center\, 3720 96th St. SW\, Lakewood\, United States
CATEGORIES:CTAG
END:VEVENT
BEGIN:VEVENT
DTSTART;TZID=America/Los_Angeles:20300328T173000
DTEND;TZID=America/Los_Angeles:20300328T190000
DTSTAMP:20260421T231816
CREATED:20251210T234052Z
LAST-MODIFIED:20251210T234052Z
UID:10000503-1900949400-1900954800@staging-7e28-piercetransit.wpcomstaging.com
SUMMARY:Community Transportation Advisory Group Meeting
DESCRIPTION:The meeting agenda will be posted closer to the event date. \n\n\n	Related
URL:https://staging-7e28-piercetransit.wpcomstaging.com/event/ctag/2030-03-28/
LOCATION:Pierce Transit Training Center\, 3720 96th St. SW\, Lakewood\, United States
CATEGORIES:CTAG
END:VEVENT
BEGIN:VEVENT
DTSTART;TZID=America/Los_Angeles:20300425T173000
DTEND;TZID=America/Los_Angeles:20300425T190000
DTSTAMP:20260421T231816
CREATED:20251210T234052Z
LAST-MODIFIED:20251210T234052Z
UID:10000504-1903368600-1903374000@staging-7e28-piercetransit.wpcomstaging.com
SUMMARY:Community Transportation Advisory Group Meeting
DESCRIPTION:The meeting agenda will be posted closer to the event date. \n\n\n	Related
URL:https://staging-7e28-piercetransit.wpcomstaging.com/event/ctag/2030-04-25/
LOCATION:Pierce Transit Training Center\, 3720 96th St. SW\, Lakewood\, United States
CATEGORIES:CTAG
END:VEVENT
BEGIN:VEVENT
DTSTART;TZID=America/Los_Angeles:20300523T173000
DTEND;TZID=America/Los_Angeles:20300523T190000
DTSTAMP:20260421T231816
CREATED:20251210T234052Z
LAST-MODIFIED:20251210T234052Z
UID:10000505-1905787800-1905793200@staging-7e28-piercetransit.wpcomstaging.com
SUMMARY:Community Transportation Advisory Group Meeting
DESCRIPTION:The meeting agenda will be posted closer to the event date. \n\n\n	Related
URL:https://staging-7e28-piercetransit.wpcomstaging.com/event/ctag/2030-05-23/
LOCATION:Pierce Transit Training Center\, 3720 96th St. SW\, Lakewood\, United States
CATEGORIES:CTAG
END:VEVENT
BEGIN:VEVENT
DTSTART;TZID=America/Los_Angeles:20300627T173000
DTEND;TZID=America/Los_Angeles:20300627T190000
DTSTAMP:20260421T231816
CREATED:20251210T234052Z
LAST-MODIFIED:20251210T234052Z
UID:10000506-1908811800-1908817200@staging-7e28-piercetransit.wpcomstaging.com
SUMMARY:Community Transportation Advisory Group Meeting
DESCRIPTION:The meeting agenda will be posted closer to the event date. \n\n\n	Related
URL:https://staging-7e28-piercetransit.wpcomstaging.com/event/ctag/2030-06-27/
LOCATION:Pierce Transit Training Center\, 3720 96th St. SW\, Lakewood\, United States
CATEGORIES:CTAG
END:VEVENT
BEGIN:VEVENT
DTSTART;TZID=America/Los_Angeles:20300725T173000
DTEND;TZID=America/Los_Angeles:20300725T190000
DTSTAMP:20260421T231816
CREATED:20251210T234052Z
LAST-MODIFIED:20251210T234052Z
UID:10000507-1911231000-1911236400@staging-7e28-piercetransit.wpcomstaging.com
SUMMARY:Community Transportation Advisory Group Meeting
DESCRIPTION:The meeting agenda will be posted closer to the event date. \n\n\n	Related
URL:https://staging-7e28-piercetransit.wpcomstaging.com/event/ctag/2030-07-25/
LOCATION:Pierce Transit Training Center\, 3720 96th St. SW\, Lakewood\, United States
CATEGORIES:CTAG
END:VEVENT
BEGIN:VEVENT
DTSTART;TZID=America/Los_Angeles:20300822T173000
DTEND;TZID=America/Los_Angeles:20300822T190000
DTSTAMP:20260421T231816
CREATED:20251210T234052Z
LAST-MODIFIED:20251210T234052Z
UID:10000508-1913650200-1913655600@staging-7e28-piercetransit.wpcomstaging.com
SUMMARY:Community Transportation Advisory Group Meeting
DESCRIPTION:The meeting agenda will be posted closer to the event date. \n\n\n	Related
URL:https://staging-7e28-piercetransit.wpcomstaging.com/event/ctag/2030-08-22/
LOCATION:Pierce Transit Training Center\, 3720 96th St. SW\, Lakewood\, United States
CATEGORIES:CTAG
END:VEVENT
BEGIN:VEVENT
DTSTART;TZID=America/Los_Angeles:20300926T173000
DTEND;TZID=America/Los_Angeles:20300926T190000
DTSTAMP:20260421T231816
CREATED:20251210T234052Z
LAST-MODIFIED:20251210T234052Z
UID:10000509-1916674200-1916679600@staging-7e28-piercetransit.wpcomstaging.com
SUMMARY:Community Transportation Advisory Group Meeting
DESCRIPTION:The meeting agenda will be posted closer to the event date. \n\n\n	Related
URL:https://staging-7e28-piercetransit.wpcomstaging.com/event/ctag/2030-09-26/
LOCATION:Pierce Transit Training Center\, 3720 96th St. SW\, Lakewood\, United States
CATEGORIES:CTAG
END:VEVENT
END:VCALENDAR