BEGIN:VCALENDAR
VERSION:2.0
PRODID:-//Pierce Transit - ECPv6.15.20//NONSGML v1.0//EN
CALSCALE:GREGORIAN
METHOD:PUBLISH
X-WR-CALNAME:Pierce Transit
X-ORIGINAL-URL:https://staging-7e28-piercetransit.wpcomstaging.com
X-WR-CALDESC:Events for Pierce Transit
REFRESH-INTERVAL;VALUE=DURATION:PT1H
X-Robots-Tag:noindex
X-PUBLISHED-TTL:PT1H
BEGIN:VTIMEZONE
TZID:America/Los_Angeles
BEGIN:DAYLIGHT
TZOFFSETFROM:-0800
TZOFFSETTO:-0700
TZNAME:PDT
DTSTART:20260308T100000
END:DAYLIGHT
BEGIN:STANDARD
TZOFFSETFROM:-0700
TZOFFSETTO:-0800
TZNAME:PST
DTSTART:20261101T090000
END:STANDARD
BEGIN:DAYLIGHT
TZOFFSETFROM:-0800
TZOFFSETTO:-0700
TZNAME:PDT
DTSTART:20270314T100000
END:DAYLIGHT
BEGIN:STANDARD
TZOFFSETFROM:-0700
TZOFFSETTO:-0800
TZNAME:PST
DTSTART:20271107T090000
END:STANDARD
BEGIN:DAYLIGHT
TZOFFSETFROM:-0800
TZOFFSETTO:-0700
TZNAME:PDT
DTSTART:20280312T100000
END:DAYLIGHT
BEGIN:STANDARD
TZOFFSETFROM:-0700
TZOFFSETTO:-0800
TZNAME:PST
DTSTART:20281105T090000
END:STANDARD
BEGIN:DAYLIGHT
TZOFFSETFROM:-0800
TZOFFSETTO:-0700
TZNAME:PDT
DTSTART:20290311T100000
END:DAYLIGHT
BEGIN:STANDARD
TZOFFSETFROM:-0700
TZOFFSETTO:-0800
TZNAME:PST
DTSTART:20291104T090000
END:STANDARD
END:VTIMEZONE
BEGIN:VEVENT
DTSTART;TZID=America/Los_Angeles:20270422T173000
DTEND;TZID=America/Los_Angeles:20270422T190000
DTSTAMP:20260421T213948
CREATED:20251210T234052Z
LAST-MODIFIED:20251210T234052Z
UID:10000468-1808415000-1808420400@staging-7e28-piercetransit.wpcomstaging.com
SUMMARY:Community Transportation Advisory Group Meeting
DESCRIPTION:The meeting agenda will be posted closer to the event date. \n\n\n	Related
URL:https://staging-7e28-piercetransit.wpcomstaging.com/event/ctag/2027-04-22/
LOCATION:Pierce Transit Training Center\, 3720 96th St. SW\, Lakewood\, United States
CATEGORIES:CTAG
END:VEVENT
BEGIN:VEVENT
DTSTART;TZID=America/Los_Angeles:20270507T080000
DTEND;TZID=America/Los_Angeles:20270507T170000
DTSTAMP:20260421T213948
CREATED:20240405T154826Z
LAST-MODIFIED:20240405T155124Z
UID:10000073-1809676800-1809709200@staging-7e28-piercetransit.wpcomstaging.com
SUMMARY:Hide Event
DESCRIPTION:Related
URL:https://staging-7e28-piercetransit.wpcomstaging.com/event/hide-event/2027-05-07/
LOCATION:Pierce Transit Training Center\, 3720 96th St. SW\, Lakewood\, United States
ORGANIZER;CN="Deanne Jacobson":MAILTO:djacobson@piercetransit.org
END:VEVENT
BEGIN:VEVENT
DTSTART;TZID=America/Los_Angeles:20270510T160000
DTEND;TZID=America/Los_Angeles:20270510T160000
DTSTAMP:20260421T213948
CREATED:20251210T231636Z
LAST-MODIFIED:20251210T231636Z
UID:10000411-1809964800-1809964800@staging-7e28-piercetransit.wpcomstaging.com
SUMMARY:Board of Commissioners Meeting
DESCRIPTION:Board meeting agenda packets are typically posted the Wednesday prior to each Board meeting. \n \n\n\n	Related
URL:https://staging-7e28-piercetransit.wpcomstaging.com/event/board-of-commissioners-meeting-5/2027-05-10/
LOCATION:Pierce Transit Training Center\, 3720 96th St. SW\, Lakewood\, United States
CATEGORIES:Board Meeting
ORGANIZER;CN="Deanne Jacobson":MAILTO:djacobson@piercetransit.org
END:VEVENT
BEGIN:VEVENT
DTSTART;TZID=America/Los_Angeles:20270527T173000
DTEND;TZID=America/Los_Angeles:20270527T190000
DTSTAMP:20260421T213948
CREATED:20251210T234052Z
LAST-MODIFIED:20251210T234052Z
UID:10000469-1811439000-1811444400@staging-7e28-piercetransit.wpcomstaging.com
SUMMARY:Community Transportation Advisory Group Meeting
DESCRIPTION:The meeting agenda will be posted closer to the event date. \n\n\n	Related
URL:https://staging-7e28-piercetransit.wpcomstaging.com/event/ctag/2027-05-27/
LOCATION:Pierce Transit Training Center\, 3720 96th St. SW\, Lakewood\, United States
CATEGORIES:CTAG
END:VEVENT
BEGIN:VEVENT
DTSTART;TZID=America/Los_Angeles:20270604T080000
DTEND;TZID=America/Los_Angeles:20270604T170000
DTSTAMP:20260421T213948
CREATED:20240405T154826Z
LAST-MODIFIED:20240405T155124Z
UID:10000074-1812096000-1812128400@staging-7e28-piercetransit.wpcomstaging.com
SUMMARY:Hide Event
DESCRIPTION:Related
URL:https://staging-7e28-piercetransit.wpcomstaging.com/event/hide-event/2027-06-04/
LOCATION:Pierce Transit Training Center\, 3720 96th St. SW\, Lakewood\, United States
ORGANIZER;CN="Deanne Jacobson":MAILTO:djacobson@piercetransit.org
END:VEVENT
BEGIN:VEVENT
DTSTART;TZID=America/Los_Angeles:20270614T160000
DTEND;TZID=America/Los_Angeles:20270614T160000
DTSTAMP:20260421T213948
CREATED:20251210T231636Z
LAST-MODIFIED:20251210T231636Z
UID:10000412-1812988800-1812988800@staging-7e28-piercetransit.wpcomstaging.com
SUMMARY:Board of Commissioners Meeting
DESCRIPTION:Board meeting agenda packets are typically posted the Wednesday prior to each Board meeting. \n \n\n\n	Related
URL:https://staging-7e28-piercetransit.wpcomstaging.com/event/board-of-commissioners-meeting-5/2027-06-14/
LOCATION:Pierce Transit Training Center\, 3720 96th St. SW\, Lakewood\, United States
CATEGORIES:Board Meeting
ORGANIZER;CN="Deanne Jacobson":MAILTO:djacobson@piercetransit.org
END:VEVENT
BEGIN:VEVENT
DTSTART;TZID=America/Los_Angeles:20270624T173000
DTEND;TZID=America/Los_Angeles:20270624T190000
DTSTAMP:20260421T213948
CREATED:20251210T234052Z
LAST-MODIFIED:20251210T234052Z
UID:10000470-1813858200-1813863600@staging-7e28-piercetransit.wpcomstaging.com
SUMMARY:Community Transportation Advisory Group Meeting
DESCRIPTION:The meeting agenda will be posted closer to the event date. \n\n\n	Related
URL:https://staging-7e28-piercetransit.wpcomstaging.com/event/ctag/2027-06-24/
LOCATION:Pierce Transit Training Center\, 3720 96th St. SW\, Lakewood\, United States
CATEGORIES:CTAG
END:VEVENT
BEGIN:VEVENT
DTSTART;TZID=America/Los_Angeles:20270702T080000
DTEND;TZID=America/Los_Angeles:20270702T170000
DTSTAMP:20260421T213948
CREATED:20240405T154826Z
LAST-MODIFIED:20240405T155124Z
UID:10000075-1814515200-1814547600@staging-7e28-piercetransit.wpcomstaging.com
SUMMARY:Hide Event
DESCRIPTION:Related
URL:https://staging-7e28-piercetransit.wpcomstaging.com/event/hide-event/2027-07-02/
LOCATION:Pierce Transit Training Center\, 3720 96th St. SW\, Lakewood\, United States
ORGANIZER;CN="Deanne Jacobson":MAILTO:djacobson@piercetransit.org
END:VEVENT
BEGIN:VEVENT
DTSTART;TZID=America/Los_Angeles:20270712T160000
DTEND;TZID=America/Los_Angeles:20270712T160000
DTSTAMP:20260421T213948
CREATED:20251210T231636Z
LAST-MODIFIED:20251210T231636Z
UID:10000413-1815408000-1815408000@staging-7e28-piercetransit.wpcomstaging.com
SUMMARY:Board of Commissioners Meeting
DESCRIPTION:Board meeting agenda packets are typically posted the Wednesday prior to each Board meeting. \n \n\n\n	Related
URL:https://staging-7e28-piercetransit.wpcomstaging.com/event/board-of-commissioners-meeting-5/2027-07-12/
LOCATION:Pierce Transit Training Center\, 3720 96th St. SW\, Lakewood\, United States
CATEGORIES:Board Meeting
ORGANIZER;CN="Deanne Jacobson":MAILTO:djacobson@piercetransit.org
END:VEVENT
BEGIN:VEVENT
DTSTART;TZID=America/Los_Angeles:20270722T173000
DTEND;TZID=America/Los_Angeles:20270722T190000
DTSTAMP:20260421T213948
CREATED:20251210T234052Z
LAST-MODIFIED:20251210T234052Z
UID:10000471-1816277400-1816282800@staging-7e28-piercetransit.wpcomstaging.com
SUMMARY:Community Transportation Advisory Group Meeting
DESCRIPTION:The meeting agenda will be posted closer to the event date. \n\n\n	Related
URL:https://staging-7e28-piercetransit.wpcomstaging.com/event/ctag/2027-07-22/
LOCATION:Pierce Transit Training Center\, 3720 96th St. SW\, Lakewood\, United States
CATEGORIES:CTAG
END:VEVENT
BEGIN:VEVENT
DTSTART;TZID=America/Los_Angeles:20270806T080000
DTEND;TZID=America/Los_Angeles:20270806T170000
DTSTAMP:20260421T213948
CREATED:20240405T154826Z
LAST-MODIFIED:20240405T155124Z
UID:10000076-1817539200-1817571600@staging-7e28-piercetransit.wpcomstaging.com
SUMMARY:Hide Event
DESCRIPTION:Related
URL:https://staging-7e28-piercetransit.wpcomstaging.com/event/hide-event/2027-08-06/
LOCATION:Pierce Transit Training Center\, 3720 96th St. SW\, Lakewood\, United States
ORGANIZER;CN="Deanne Jacobson":MAILTO:djacobson@piercetransit.org
END:VEVENT
BEGIN:VEVENT
DTSTART;TZID=America/Los_Angeles:20270809T160000
DTEND;TZID=America/Los_Angeles:20270809T160000
DTSTAMP:20260421T213948
CREATED:20251210T231636Z
LAST-MODIFIED:20251210T231636Z
UID:10000414-1817827200-1817827200@staging-7e28-piercetransit.wpcomstaging.com
SUMMARY:Board of Commissioners Meeting
DESCRIPTION:Board meeting agenda packets are typically posted the Wednesday prior to each Board meeting. \n \n\n\n	Related
URL:https://staging-7e28-piercetransit.wpcomstaging.com/event/board-of-commissioners-meeting-5/2027-08-09/
LOCATION:Pierce Transit Training Center\, 3720 96th St. SW\, Lakewood\, United States
CATEGORIES:Board Meeting
ORGANIZER;CN="Deanne Jacobson":MAILTO:djacobson@piercetransit.org
END:VEVENT
BEGIN:VEVENT
DTSTART;TZID=America/Los_Angeles:20270826T173000
DTEND;TZID=America/Los_Angeles:20270826T190000
DTSTAMP:20260421T213948
CREATED:20251210T234052Z
LAST-MODIFIED:20251210T234052Z
UID:10000472-1819301400-1819306800@staging-7e28-piercetransit.wpcomstaging.com
SUMMARY:Community Transportation Advisory Group Meeting
DESCRIPTION:The meeting agenda will be posted closer to the event date. \n\n\n	Related
URL:https://staging-7e28-piercetransit.wpcomstaging.com/event/ctag/2027-08-26/
LOCATION:Pierce Transit Training Center\, 3720 96th St. SW\, Lakewood\, United States
CATEGORIES:CTAG
END:VEVENT
BEGIN:VEVENT
DTSTART;TZID=America/Los_Angeles:20270903T080000
DTEND;TZID=America/Los_Angeles:20270903T170000
DTSTAMP:20260421T213948
CREATED:20240405T154826Z
LAST-MODIFIED:20240405T155124Z
UID:10000077-1819958400-1819990800@staging-7e28-piercetransit.wpcomstaging.com
SUMMARY:Hide Event
DESCRIPTION:Related
URL:https://staging-7e28-piercetransit.wpcomstaging.com/event/hide-event/2027-09-03/
LOCATION:Pierce Transit Training Center\, 3720 96th St. SW\, Lakewood\, United States
ORGANIZER;CN="Deanne Jacobson":MAILTO:djacobson@piercetransit.org
END:VEVENT
BEGIN:VEVENT
DTSTART;TZID=America/Los_Angeles:20270913T160000
DTEND;TZID=America/Los_Angeles:20270913T160000
DTSTAMP:20260421T213948
CREATED:20251210T231636Z
LAST-MODIFIED:20251210T231636Z
UID:10000415-1820851200-1820851200@staging-7e28-piercetransit.wpcomstaging.com
SUMMARY:Board of Commissioners Meeting
DESCRIPTION:Board meeting agenda packets are typically posted the Wednesday prior to each Board meeting. \n \n\n\n	Related
URL:https://staging-7e28-piercetransit.wpcomstaging.com/event/board-of-commissioners-meeting-5/2027-09-13/
LOCATION:Pierce Transit Training Center\, 3720 96th St. SW\, Lakewood\, United States
CATEGORIES:Board Meeting
ORGANIZER;CN="Deanne Jacobson":MAILTO:djacobson@piercetransit.org
END:VEVENT
BEGIN:VEVENT
DTSTART;TZID=America/Los_Angeles:20270923T173000
DTEND;TZID=America/Los_Angeles:20270923T190000
DTSTAMP:20260421T213948
CREATED:20251210T234052Z
LAST-MODIFIED:20251210T234052Z
UID:10000473-1821720600-1821726000@staging-7e28-piercetransit.wpcomstaging.com
SUMMARY:Community Transportation Advisory Group Meeting
DESCRIPTION:The meeting agenda will be posted closer to the event date. \n\n\n	Related
URL:https://staging-7e28-piercetransit.wpcomstaging.com/event/ctag/2027-09-23/
LOCATION:Pierce Transit Training Center\, 3720 96th St. SW\, Lakewood\, United States
CATEGORIES:CTAG
END:VEVENT
BEGIN:VEVENT
DTSTART;TZID=America/Los_Angeles:20271001T080000
DTEND;TZID=America/Los_Angeles:20271001T170000
DTSTAMP:20260421T213948
CREATED:20240405T154826Z
LAST-MODIFIED:20240405T155124Z
UID:10000078-1822377600-1822410000@staging-7e28-piercetransit.wpcomstaging.com
SUMMARY:Hide Event
DESCRIPTION:Related
URL:https://staging-7e28-piercetransit.wpcomstaging.com/event/hide-event/2027-10-01/
LOCATION:Pierce Transit Training Center\, 3720 96th St. SW\, Lakewood\, United States
ORGANIZER;CN="Deanne Jacobson":MAILTO:djacobson@piercetransit.org
END:VEVENT
BEGIN:VEVENT
DTSTART;TZID=America/Los_Angeles:20271011T160000
DTEND;TZID=America/Los_Angeles:20271011T160000
DTSTAMP:20260421T213948
CREATED:20251210T231636Z
LAST-MODIFIED:20251210T231636Z
UID:10000416-1823270400-1823270400@staging-7e28-piercetransit.wpcomstaging.com
SUMMARY:Board of Commissioners Meeting
DESCRIPTION:Board meeting agenda packets are typically posted the Wednesday prior to each Board meeting. \n \n\n\n	Related
URL:https://staging-7e28-piercetransit.wpcomstaging.com/event/board-of-commissioners-meeting-5/2027-10-11/
LOCATION:Pierce Transit Training Center\, 3720 96th St. SW\, Lakewood\, United States
CATEGORIES:Board Meeting
ORGANIZER;CN="Deanne Jacobson":MAILTO:djacobson@piercetransit.org
END:VEVENT
BEGIN:VEVENT
DTSTART;TZID=America/Los_Angeles:20271028T173000
DTEND;TZID=America/Los_Angeles:20271028T190000
DTSTAMP:20260421T213948
CREATED:20251210T234052Z
LAST-MODIFIED:20251210T234052Z
UID:10000474-1824744600-1824750000@staging-7e28-piercetransit.wpcomstaging.com
SUMMARY:Community Transportation Advisory Group Meeting
DESCRIPTION:The meeting agenda will be posted closer to the event date. \n\n\n	Related
URL:https://staging-7e28-piercetransit.wpcomstaging.com/event/ctag/2027-10-28/
LOCATION:Pierce Transit Training Center\, 3720 96th St. SW\, Lakewood\, United States
CATEGORIES:CTAG
END:VEVENT
BEGIN:VEVENT
DTSTART;TZID=America/Los_Angeles:20271105T080000
DTEND;TZID=America/Los_Angeles:20271105T170000
DTSTAMP:20260421T213948
CREATED:20240405T154826Z
LAST-MODIFIED:20240405T155124Z
UID:10000079-1825401600-1825434000@staging-7e28-piercetransit.wpcomstaging.com
SUMMARY:Hide Event
DESCRIPTION:Related
URL:https://staging-7e28-piercetransit.wpcomstaging.com/event/hide-event/2027-11-05/
LOCATION:Pierce Transit Training Center\, 3720 96th St. SW\, Lakewood\, United States
ORGANIZER;CN="Deanne Jacobson":MAILTO:djacobson@piercetransit.org
END:VEVENT
BEGIN:VEVENT
DTSTART;TZID=America/Los_Angeles:20271108T160000
DTEND;TZID=America/Los_Angeles:20271108T160000
DTSTAMP:20260421T213948
CREATED:20251210T231636Z
LAST-MODIFIED:20251210T231636Z
UID:10000417-1825689600-1825689600@staging-7e28-piercetransit.wpcomstaging.com
SUMMARY:Board of Commissioners Meeting
DESCRIPTION:Board meeting agenda packets are typically posted the Wednesday prior to each Board meeting. \n \n\n\n	Related
URL:https://staging-7e28-piercetransit.wpcomstaging.com/event/board-of-commissioners-meeting-5/2027-11-08/
LOCATION:Pierce Transit Training Center\, 3720 96th St. SW\, Lakewood\, United States
CATEGORIES:Board Meeting
ORGANIZER;CN="Deanne Jacobson":MAILTO:djacobson@piercetransit.org
END:VEVENT
BEGIN:VEVENT
DTSTART;TZID=America/Los_Angeles:20271125T173000
DTEND;TZID=America/Los_Angeles:20271125T190000
DTSTAMP:20260421T213948
CREATED:20251210T234052Z
LAST-MODIFIED:20251210T234052Z
UID:10000475-1827163800-1827169200@staging-7e28-piercetransit.wpcomstaging.com
SUMMARY:Community Transportation Advisory Group Meeting
DESCRIPTION:The meeting agenda will be posted closer to the event date. \n\n\n	Related
URL:https://staging-7e28-piercetransit.wpcomstaging.com/event/ctag/2027-11-25/
LOCATION:Pierce Transit Training Center\, 3720 96th St. SW\, Lakewood\, United States
CATEGORIES:CTAG
END:VEVENT
BEGIN:VEVENT
DTSTART;TZID=America/Los_Angeles:20271203T080000
DTEND;TZID=America/Los_Angeles:20271203T170000
DTSTAMP:20260421T213948
CREATED:20240405T154826Z
LAST-MODIFIED:20240405T155124Z
UID:10000080-1827820800-1827853200@staging-7e28-piercetransit.wpcomstaging.com
SUMMARY:Hide Event
DESCRIPTION:Related
URL:https://staging-7e28-piercetransit.wpcomstaging.com/event/hide-event/2027-12-03/
LOCATION:Pierce Transit Training Center\, 3720 96th St. SW\, Lakewood\, United States
ORGANIZER;CN="Deanne Jacobson":MAILTO:djacobson@piercetransit.org
END:VEVENT
BEGIN:VEVENT
DTSTART;TZID=America/Los_Angeles:20271213T160000
DTEND;TZID=America/Los_Angeles:20271213T160000
DTSTAMP:20260421T213948
CREATED:20251210T231636Z
LAST-MODIFIED:20251210T231636Z
UID:10000418-1828713600-1828713600@staging-7e28-piercetransit.wpcomstaging.com
SUMMARY:Board of Commissioners Meeting
DESCRIPTION:Board meeting agenda packets are typically posted the Wednesday prior to each Board meeting. \n \n\n\n	Related
URL:https://staging-7e28-piercetransit.wpcomstaging.com/event/board-of-commissioners-meeting-5/2027-12-13/
LOCATION:Pierce Transit Training Center\, 3720 96th St. SW\, Lakewood\, United States
CATEGORIES:Board Meeting
ORGANIZER;CN="Deanne Jacobson":MAILTO:djacobson@piercetransit.org
END:VEVENT
BEGIN:VEVENT
DTSTART;TZID=America/Los_Angeles:20271223T173000
DTEND;TZID=America/Los_Angeles:20271223T190000
DTSTAMP:20260421T213948
CREATED:20251210T234052Z
LAST-MODIFIED:20251210T234052Z
UID:10000476-1829583000-1829588400@staging-7e28-piercetransit.wpcomstaging.com
SUMMARY:Community Transportation Advisory Group Meeting
DESCRIPTION:The meeting agenda will be posted closer to the event date. \n\n\n	Related
URL:https://staging-7e28-piercetransit.wpcomstaging.com/event/ctag/2027-12-23/
LOCATION:Pierce Transit Training Center\, 3720 96th St. SW\, Lakewood\, United States
CATEGORIES:CTAG
END:VEVENT
BEGIN:VEVENT
DTSTART;TZID=America/Los_Angeles:20280107T080000
DTEND;TZID=America/Los_Angeles:20280107T170000
DTSTAMP:20260421T213948
CREATED:20240405T154826Z
LAST-MODIFIED:20240405T155124Z
UID:10000081-1830844800-1830877200@staging-7e28-piercetransit.wpcomstaging.com
SUMMARY:Hide Event
DESCRIPTION:Related
URL:https://staging-7e28-piercetransit.wpcomstaging.com/event/hide-event/2028-01-07/
LOCATION:Pierce Transit Training Center\, 3720 96th St. SW\, Lakewood\, United States
ORGANIZER;CN="Deanne Jacobson":MAILTO:djacobson@piercetransit.org
END:VEVENT
BEGIN:VEVENT
DTSTART;TZID=America/Los_Angeles:20280110T160000
DTEND;TZID=America/Los_Angeles:20280110T160000
DTSTAMP:20260421T213948
CREATED:20251210T231636Z
LAST-MODIFIED:20251210T231636Z
UID:10000419-1831132800-1831132800@staging-7e28-piercetransit.wpcomstaging.com
SUMMARY:Board of Commissioners Meeting
DESCRIPTION:Board meeting agenda packets are typically posted the Wednesday prior to each Board meeting. \n \n\n\n	Related
URL:https://staging-7e28-piercetransit.wpcomstaging.com/event/board-of-commissioners-meeting-5/2028-01-10/
LOCATION:Pierce Transit Training Center\, 3720 96th St. SW\, Lakewood\, United States
CATEGORIES:Board Meeting
ORGANIZER;CN="Deanne Jacobson":MAILTO:djacobson@piercetransit.org
END:VEVENT
BEGIN:VEVENT
DTSTART;TZID=America/Los_Angeles:20280127T173000
DTEND;TZID=America/Los_Angeles:20280127T190000
DTSTAMP:20260421T213948
CREATED:20251210T234052Z
LAST-MODIFIED:20251210T234052Z
UID:10000477-1832607000-1832612400@staging-7e28-piercetransit.wpcomstaging.com
SUMMARY:Community Transportation Advisory Group Meeting
DESCRIPTION:The meeting agenda will be posted closer to the event date. \n\n\n	Related
URL:https://staging-7e28-piercetransit.wpcomstaging.com/event/ctag/2028-01-27/
LOCATION:Pierce Transit Training Center\, 3720 96th St. SW\, Lakewood\, United States
CATEGORIES:CTAG
END:VEVENT
BEGIN:VEVENT
DTSTART;TZID=America/Los_Angeles:20280204T080000
DTEND;TZID=America/Los_Angeles:20280204T170000
DTSTAMP:20260421T213948
CREATED:20240405T154826Z
LAST-MODIFIED:20240405T155124Z
UID:10000082-1833264000-1833296400@staging-7e28-piercetransit.wpcomstaging.com
SUMMARY:Hide Event
DESCRIPTION:Related
URL:https://staging-7e28-piercetransit.wpcomstaging.com/event/hide-event/2028-02-04/
LOCATION:Pierce Transit Training Center\, 3720 96th St. SW\, Lakewood\, United States
ORGANIZER;CN="Deanne Jacobson":MAILTO:djacobson@piercetransit.org
END:VEVENT
BEGIN:VEVENT
DTSTART;TZID=America/Los_Angeles:20280214T160000
DTEND;TZID=America/Los_Angeles:20280214T160000
DTSTAMP:20260421T213948
CREATED:20251210T231636Z
LAST-MODIFIED:20251210T231636Z
UID:10000420-1834156800-1834156800@staging-7e28-piercetransit.wpcomstaging.com
SUMMARY:Board of Commissioners Meeting
DESCRIPTION:Board meeting agenda packets are typically posted the Wednesday prior to each Board meeting. \n \n\n\n	Related
URL:https://staging-7e28-piercetransit.wpcomstaging.com/event/board-of-commissioners-meeting-5/2028-02-14/
LOCATION:Pierce Transit Training Center\, 3720 96th St. SW\, Lakewood\, United States
CATEGORIES:Board Meeting
ORGANIZER;CN="Deanne Jacobson":MAILTO:djacobson@piercetransit.org
END:VEVENT
END:VCALENDAR